BEGIN:VCALENDAR
VERSION:2.0
PRODID:-//Eventin//Event Calendar//EN
CALSCALE:GREGORIAN
METHOD:PUBLISH
BEGIN:VEVENT
UID:8bb12681ff42c3c59b5a7ddd4a4591ba@liberator.net.au
SUMMARY:Planning for Device Trials | April 2026
DESCRIPTION:Please join us for regular online meetings to help you to prep
 are for a device trial.\n\n\n\nThese sessions are open to anyone who wants 
 to learn more about the process of conducting a thorough and successful dev
 ice trial\, whether you are a speech-language pathologist\, support worker\
 , educator\, or family member supporting a trial.\n\n\n\nDuring these onlin
 e sessions we will cover:\n\n\n\n\nUsing the SETT Framework for understandi
 ng your client and their needs\n\n\n\nUnderstanding communication competenc
 ies and using these to create goals\n\n\n\nResources for trial preparation\
 n\n\n\n\nIMPORTANT: Prior to the session\, please download the Planning f
 or Device Trials Training resources that we will refer to throughout the t
 raining.\n\n\n\nAll training sessions run for one hour.\n\n\n\nDATETIMEREG
 ISTRATION LINKWednesday\, 8 April12pm - 1pmRegisterThursday\, 16 April10am 
 - 11amRegisterFriday\, 24 April1pm - 2pmRegisterTuesday\, 28 April2pm - 3pm
 Register
LOCATION:Online
DTSTAMP:20260422T092600Z
DTSTART:20260424T030000Z
DTEND:20260428T040000Z
END:VEVENT
END:VCALENDAR
