BEGIN:VCALENDAR
VERSION:2.0
PRODID:-//Eventin//Event Calendar//EN
CALSCALE:GREGORIAN
METHOD:PUBLISH
BEGIN:VEVENT
UID:5f8683f8c42caed408abe7707535a934@liberator.net.au
SUMMARY:Assessment and Implementation for AAC | Sydney – August 2026
DESCRIPTION:2-Day In-Person Training – Monday 3rd and Tuesday 4th Augu
 st 2026 \n\n\n\n\n\n\n\nLooking to boost your AAC assessment and implement
 ation skills? \n\n\n\nCovering every step from assessment to implementatio
 n\, this comprehensive training explores evidence-based strategies for supp
 orting individuals through their AAC journey. \n\n\n\n\n\n\n\nLed by expe
 rienced Liberator consultants\, this dynamic 2-day workshop will examine 
 practical approaches for conducting thorough assessments\, setting meaningf
 ul goals\, managing trials\, collecting data\, and implementing effective A
 AC strategies across environments. \n\n\n\n\n\n\n\nBy the End of This Work
 shop\, You'll Be Able To: \n\n\n\n\nConduct comprehensive AAC assessments 
 that identify client strengths and needs \n\n\n\n\n\nImplement effective g
 oal-setting strategies for AAC communicators \n\n\n\n\n\nManage device tri
 als with confidence and clarity \n\n\n\n\n\nCollect and analyse meaningful
  data to guide implementation decisions \n\n\n\n\n\nSupport successful AAC
  implementation across various environments \n\n\n\n\n\n\n\n\nDate: Monda
 y 3rd and Tuesday 4th August 2026 \n\n\n\nTime: 9:30am – 4:00pm (both 
 days)\n\n\n\nLocation: Next Sense Macquarie Park\, 2 Gymnasium Road\, Macqu
 arie Park NSW 2113 \n\n\n\nCost: $654.50 inc. GST\n\n\n\nMorning tea\, lun
 ch and afternoon tea provided. Please email training@liberator.net.au with
  dietary requirements by Friday 24th July 2026.\n\n\n\n\n\n\n\n Register 
 now to secure your place! \n\n\n\nGet Your Tickets
LOCATION:NextSense\, Gymnasium Road\, Macquarie Park NSW\, Australia
DTSTAMP:20260420T091726Z
DTSTART:20260802T233000Z
DTEND:20260804T060000Z
END:VEVENT
END:VCALENDAR
