BEGIN:VCALENDAR
VERSION:2.0
PRODID:-//Eventin//Event Calendar//EN
CALSCALE:GREGORIAN
METHOD:PUBLISH
BEGIN:VEVENT
UID:aa0785cdb60683d4c553aa2938c1c5b5@liberator.net.au
SUMMARY:Planning for Device Trials
DESCRIPTION:Please join us for regular online meetings to help you to prepa
 re for a device trial. During these online sessions we will cover:\n\nUsing
  the SETT Framework for understanding your client and their needs\nUndersta
 nding communication competencies and using these to create goals\nResources
  for trial preparation\n\nThese sessions are open to anyone who wants to le
 arn more the process of conducting a thorough and successful device trial\,
  whether you are a speech-language pathologist\, support worker\, educator\
 , or family member supporting a trial.\nIMPORTANT: Prior to the session\, p
 lease download the following resources that we will refer to throughout the
  training:\nClick Here for the Planning for Device Trials Training RESOURCE
 S\nAll trainings run for one hour.\n\n\nTuesday\, 18 June 20241-2pmRegister
 Wednesday\, 26 June 20242-3pmRegister
LOCATION:Online
DTSTAMP:20260421T082634Z
DTSTART:20240618T030000Z
DTEND:20260421T040000Z
END:VEVENT
END:VCALENDAR
